BEGIN:VCALENDAR
VERSION:2.0
PRODID:-//Integraler Salon Tübingen - ECPv6.15.20//NONSGML v1.0//EN
CALSCALE:GREGORIAN
METHOD:PUBLISH
X-ORIGINAL-URL:http://integraler-salon-tuebingen.de
X-WR-CALDESC:Veranstaltungen für Integraler Salon Tübingen
REFRESH-INTERVAL;VALUE=DURATION:PT1H
X-Robots-Tag:noindex
X-PUBLISHED-TTL:PT1H
BEGIN:VTIMEZONE
TZID:Europe/Berlin
BEGIN:DAYLIGHT
TZOFFSETFROM:+0100
TZOFFSETTO:+0200
TZNAME:CEST
DTSTART:20180325T010000
END:DAYLIGHT
BEGIN:STANDARD
TZOFFSETFROM:+0200
TZOFFSETTO:+0100
TZNAME:CET
DTSTART:20181028T010000
END:STANDARD
BEGIN:DAYLIGHT
TZOFFSETFROM:+0100
TZOFFSETTO:+0200
TZNAME:CEST
DTSTART:20190331T010000
END:DAYLIGHT
BEGIN:STANDARD
TZOFFSETFROM:+0200
TZOFFSETTO:+0100
TZNAME:CET
DTSTART:20191027T010000
END:STANDARD
BEGIN:DAYLIGHT
TZOFFSETFROM:+0100
TZOFFSETTO:+0200
TZNAME:CEST
DTSTART:20200329T010000
END:DAYLIGHT
BEGIN:STANDARD
TZOFFSETFROM:+0200
TZOFFSETTO:+0100
TZNAME:CET
DTSTART:20201025T010000
END:STANDARD
END:VTIMEZONE
BEGIN:VEVENT
DTSTART;TZID=Europe/Berlin:20190926T200000
DTEND;TZID=Europe/Berlin:20190926T223000
DTSTAMP:20260425T181350
CREATED:20190527T082854Z
LAST-MODIFIED:20190903T143300Z
UID:1375-1569528000-1569537000@integraler-salon-tuebingen.de
SUMMARY:Integrales Malen mit Helga Hecking
DESCRIPTION:Integrales Malen mit Helga Hecking\n\n\n  \n  \n„Wie alles sich zum Ganzen webt – eins in dem andern wirkt und lebt…“ \nGedacht – Gefühlt – Verstand und Herz – Leben ist mehr\, als reine Kopfsache. Das Malen lädt ein\, die Verbindung zwischen Kopf und Bauch zu beleben. \nAuf allen Ebenen… \n\nInnen – Außen\nIndividuell – Kollektiv\nAußen – Kollektiv\nAußen – Individuell\nInnen – Kollektiv\nInnen – Individuell\n\nPraktische Malübungen mit Herz\, Verstand\, Körper\, Geist und Seele-  sowie vitalisierenden Farben. Und Humor 😉 \nDie Teilnehmer mögen sich eingeladen fühlen\, Kleidung zu tragen\, die ggf. auch nach der Wäsche Spuren des Malens behalten darf. \nSiehe auch die Veranstaltung am 9. Februar 2017 und ihre Webseite Maltherapie-Hecking.de.
URL:http://integraler-salon-tuebingen.de/event/2019-09
LOCATION:Deutsch-Amerikanisches Institut (d.a.i.)\, Karlstr. 3\, Tübingen\, 72072\, Deutschland
CATEGORIES:Salon,Tübingen
ATTACH;FMTTYPE=image/jpeg:http://integraler-salon-tuebingen.de/wp-content/uploads/2019/09/Helga-Pinsel.jpg
ORGANIZER;CN="Integraler Salon T%C3%BCbingen":MAILTO:team@integraler-salon-tuebingen.de
END:VEVENT
END:VCALENDAR