BEGIN:VCALENDAR
VERSION:2.0
PRODID:-//Integraler Salon Tübingen - ECPv6.15.20//NONSGML v1.0//EN
CALSCALE:GREGORIAN
METHOD:PUBLISH
X-ORIGINAL-URL:http://integraler-salon-tuebingen.de
X-WR-CALDESC:Veranstaltungen für Integraler Salon Tübingen
REFRESH-INTERVAL;VALUE=DURATION:PT1H
X-Robots-Tag:noindex
X-PUBLISHED-TTL:PT1H
BEGIN:VTIMEZONE
TZID:Europe/Berlin
BEGIN:DAYLIGHT
TZOFFSETFROM:+0100
TZOFFSETTO:+0200
TZNAME:CEST
DTSTART:20180325T010000
END:DAYLIGHT
BEGIN:STANDARD
TZOFFSETFROM:+0200
TZOFFSETTO:+0100
TZNAME:CET
DTSTART:20181028T010000
END:STANDARD
BEGIN:DAYLIGHT
TZOFFSETFROM:+0100
TZOFFSETTO:+0200
TZNAME:CEST
DTSTART:20190331T010000
END:DAYLIGHT
BEGIN:STANDARD
TZOFFSETFROM:+0200
TZOFFSETTO:+0100
TZNAME:CET
DTSTART:20191027T010000
END:STANDARD
BEGIN:DAYLIGHT
TZOFFSETFROM:+0100
TZOFFSETTO:+0200
TZNAME:CEST
DTSTART:20200329T010000
END:DAYLIGHT
BEGIN:STANDARD
TZOFFSETFROM:+0200
TZOFFSETTO:+0100
TZNAME:CET
DTSTART:20201025T010000
END:STANDARD
END:VTIMEZONE
BEGIN:VEVENT
DTSTART;TZID=Europe/Berlin:20190110T200000
DTEND;TZID=Europe/Berlin:20190110T230000
DTSTAMP:20260423T131159
CREATED:20181122T092847Z
LAST-MODIFIED:20191102T185437Z
UID:1254-1547150400-1547161200@integraler-salon-tuebingen.de
SUMMARY:Trauma – Was nun? Teil 2
DESCRIPTION:Nachdem wir bei unserem berührenden ersten Salonabend zu diesem Thema gemeinsam unseren individuellen Traumata auf der Spur waren\, wollen wir diesmal zusammen mit Margarete Hardes und Philipp Althaus stärker die kollektiven Dimensionen von Traumatisierung in den Blick nehmen. \nThema:     TRAUMA – WAS NUN? (2) \n– Im d.a.i.\, Karlstraße 3\, 72072 Tübingen. Eintritt frei\, Spenden erbeten. \n– Beginn: 20:15 Uhr\, Ende gegen 22:00 Uhr – \nWir wollen uns darüber bewusst werden\, welcher Vielzahl traumatisierender Einflüsse wir seit unserer Geburt (und womöglich schon früher) ausgesetzt sind\, und uns darüber austauschen\, welche Folgen das für uns und die Gesellschaft hat. Natürlich stellen wir uns auch wieder die Frage: Was können wir tun? Auch Interessierte\, die beim ersten Abend nicht dabei waren\, sind ausdrücklich herzlich eingeladen. \nDer Eintritt ist wie immer frei\, aber wir freuen uns über einen Beitrag für Raummiete\, Webauftritt sowie Fahrtkosten unserer externen Referenten. Je nach Teilnehmerzahl liegt die Empfehlung meist zwischen 3 und 9 Euro.
URL:http://integraler-salon-tuebingen.de/event/2018-01
LOCATION:Deutsch-Amerikanisches Institut (d.a.i.)\, Karlstr. 3\, Tübingen\, 72072\, Deutschland
CATEGORIES:Salon,Team,Tübingen
ATTACH;FMTTYPE=image/png:http://integraler-salon-tuebingen.de/wp-content/uploads/2018/11/Trauma-Collage.png
ORGANIZER;CN="Integraler Salon T%C3%BCbingen":MAILTO:team@integraler-salon-tuebingen.de
END:VEVENT
END:VCALENDAR