BEGIN:VCALENDAR
VERSION:2.0
PRODID:-//Integraler Salon Tübingen - ECPv6.15.20//NONSGML v1.0//EN
CALSCALE:GREGORIAN
METHOD:PUBLISH
X-WR-CALNAME:Integraler Salon Tübingen
X-ORIGINAL-URL:http://integraler-salon-tuebingen.de
X-WR-CALDESC:Veranstaltungen für Integraler Salon Tübingen
REFRESH-INTERVAL;VALUE=DURATION:PT1H
X-Robots-Tag:noindex
X-PUBLISHED-TTL:PT1H
BEGIN:VTIMEZONE
TZID:Europe/Berlin
BEGIN:DAYLIGHT
TZOFFSETFROM:+0100
TZOFFSETTO:+0200
TZNAME:CEST
DTSTART:20170326T010000
END:DAYLIGHT
BEGIN:STANDARD
TZOFFSETFROM:+0200
TZOFFSETTO:+0100
TZNAME:CET
DTSTART:20171029T010000
END:STANDARD
BEGIN:DAYLIGHT
TZOFFSETFROM:+0100
TZOFFSETTO:+0200
TZNAME:CEST
DTSTART:20180325T010000
END:DAYLIGHT
BEGIN:STANDARD
TZOFFSETFROM:+0200
TZOFFSETTO:+0100
TZNAME:CET
DTSTART:20181028T010000
END:STANDARD
BEGIN:DAYLIGHT
TZOFFSETFROM:+0100
TZOFFSETTO:+0200
TZNAME:CEST
DTSTART:20190331T010000
END:DAYLIGHT
BEGIN:STANDARD
TZOFFSETFROM:+0200
TZOFFSETTO:+0100
TZNAME:CET
DTSTART:20191027T010000
END:STANDARD
END:VTIMEZONE
BEGIN:VEVENT
DTSTART;TZID=Europe/Berlin:20181011T200000
DTEND;TZID=Europe/Berlin:20181011T223000
DTSTAMP:20260425T142702
CREATED:20180717T170254Z
LAST-MODIFIED:20191102T185447Z
UID:1195-1539288000-1539297000@integraler-salon-tuebingen.de
SUMMARY:Salon: Kosmologie am Lagerfeuer Teil 3 von 3
DESCRIPTION:Liegt es am schlechten Physikunterricht in Deutschland? Oder warum sind viele Menschen zwar fasziniert vom Kosmos\, haben aber keinen blassen Schimmer wenn es um Planeten\, Sterne und Galaxien geht. Schlimmer noch\, die Tiefen unserer Ozeane sind auch der Wissenschaft unbekannter als weit entfernte Pulsare und verschmelzende schwarze Löcher. \nUnd auch wenn es brennend wichtigere Themen gibt\, z.B. wie wir Menschen es einrichten\, damit auch zukünftige Generationen auf und mit unserem Raumschiff Erde leben werden\, hilft es doch\, sich selbst und unseren Platz im Kosmos gewahr zu werden. \nDie Reihe „Kosmologie am Lagerfeuer“ ist der Versuch die komplexen Zusammenhänge allgemeinverständlich „runter zu brechen“\, und es nicht als Frontalunterricht\,  sondern anlehnend an die Form des Geschichtenerzählen am Lagerfeuer erfahrbar zu machen\, was die Welt im innersten zusammenhält. \nUnd spätestens hier wird klar\, das auch Astro-Physik eine „Landkarte“ sein kann\, um uns zu verorten. \nWer also schon immer mal einfach verstehen wollte\, was Sterne\, Neutronensterne und schwarze Löcher sind\, und wie sie „funktionieren“ ist hier genau richtig. \nAblauf\n\nBeginn 20:15\nEtwa 15 Minuten: Begrüßung und anschließend eine Musik-Meditation mit Gitarre oder Klavier\nEtwa 10 Minuten: Wiederholung von Teil 1 & 2 dieser Reihe:\n\n„Die vier Grundkräfte„\n„Wie funktioniert unsere Sonne?“\n\n\nEtwa 30 Minuten: „Wie entstehen und was sind Schwarze Löcher und Neutronensterne?„\nEtwa 30 Minuten: Gemeinsam weiter philosophieren und offene Fragen besprechen\nEtwa 5 Minuten: Verabschiedung  mit Gitarre\nEnde gegen 22:30 Uhr\n\n\nDies ist der dritte Teil\, also das Ende dieser Trilogie:\n\nDie vier Grundkräfte (7. Dezember 2017)\nWie funktioniert unsere Sonne (5. Juli 2018)\nWie entstehen und was sind Schwarze Löcher und Neutronensterne? (11. Oktober 2018)\, einfach zuhören und entspannen.\n\nLust auf mehr? Ab 2019 Astronomisches-Konzert.de. \n\nEintritt frei\, aber wie immer freuen wir uns über eine Beitrag für Raummiete\, Webauftritt sowie Fahrtkosten unserer externen Referenten. Je nach Teilnehmerzahl sind es meist zwischen 3 und 9 Euro.
URL:http://integraler-salon-tuebingen.de/event/kosmologie-am-lagerfeuer-teil-3
LOCATION:Deutsch-Amerikanisches Institut (d.a.i.)\, Karlstr. 3\, Tübingen\, 72072\, Deutschland
CATEGORIES:Salon,Team,Tübingen
ATTACH;FMTTYPE=image/jpeg:http://integraler-salon-tuebingen.de/wp-content/uploads/2017/05/lagerfeuer-wallpaper-21.jpg
ORGANIZER;CN="Integraler Salon T%C3%BCbingen":MAILTO:team@integraler-salon-tuebingen.de
END:VEVENT
END:VCALENDAR