BEGIN:VCALENDAR
VERSION:2.0
PRODID:-//Integraler Salon Tübingen - ECPv6.15.20//NONSGML v1.0//EN
CALSCALE:GREGORIAN
METHOD:PUBLISH
X-ORIGINAL-URL:http://integraler-salon-tuebingen.de
X-WR-CALDESC:Veranstaltungen für Integraler Salon Tübingen
REFRESH-INTERVAL;VALUE=DURATION:PT1H
X-Robots-Tag:noindex
X-PUBLISHED-TTL:PT1H
BEGIN:VTIMEZONE
TZID:Europe/Berlin
BEGIN:DAYLIGHT
TZOFFSETFROM:+0100
TZOFFSETTO:+0200
TZNAME:CEST
DTSTART:20170326T010000
END:DAYLIGHT
BEGIN:STANDARD
TZOFFSETFROM:+0200
TZOFFSETTO:+0100
TZNAME:CET
DTSTART:20171029T010000
END:STANDARD
BEGIN:DAYLIGHT
TZOFFSETFROM:+0100
TZOFFSETTO:+0200
TZNAME:CEST
DTSTART:20180325T010000
END:DAYLIGHT
BEGIN:STANDARD
TZOFFSETFROM:+0200
TZOFFSETTO:+0100
TZNAME:CET
DTSTART:20181028T010000
END:STANDARD
BEGIN:DAYLIGHT
TZOFFSETFROM:+0100
TZOFFSETTO:+0200
TZNAME:CEST
DTSTART:20190331T010000
END:DAYLIGHT
BEGIN:STANDARD
TZOFFSETFROM:+0200
TZOFFSETTO:+0100
TZNAME:CET
DTSTART:20191027T010000
END:STANDARD
END:VTIMEZONE
BEGIN:VEVENT
DTSTART;TZID=Europe/Berlin:20180125T200000
DTEND;TZID=Europe/Berlin:20180125T224500
DTSTAMP:20260423T131227
CREATED:20171111T210556Z
LAST-MODIFIED:20191102T185237Z
UID:966-1516910400-1516920300@integraler-salon-tuebingen.de
SUMMARY:Salon Januar / Februar: Liebe\, Sex & Beziehung
DESCRIPTION:Beziehung\, Erotik\, Sexualität & Liebe kommen zusammen im Integralen nur vereinzelt vor. Leider. Wir wagen gemeinsam eine Annäherung. Allerdings bedarf ein solcher Abend\, mehr als sonst\, Regeln\, welche einen offenen und gleichzeitig geschützten Rahmen bieten. \nAus guten Erfahrungen in anderen Zusammenhängen wird es moderierte Runden geben\, um uns Gelegenheit zu geben\, bei Bedarf auch Anonym\, Fragen zu stellen\, und sicher zu stellen wahrhafte und persönliche Antworten zu bekommen. \nLasst euch überraschen 🙂 \nWir freuen uns auf einen ungewöhnlichen und spannenden Abend mit euch. \nGeplanter Ablauf\n\nWillkommen\nGitarre / Meditation = Tongeln\nSexuelles Beziehungs Rad\n\nz.B. Gleichberechtigung von Monogamie\, Polyamorie\, Zölibat u.s.w.\nGleichberechtigung der Geschlechtsidentitäten\, also der individuell empfundene Identifikation mit einem\, mehreren oder keinem Geschlecht\nRegel 1: Für den heutigen Abend gehen wir gemeinsam von dieser Gleichberechtigung aus\n\n\nVorstellung\n\nEin Satz von jedeM*: Ich bin heute hier\, weil …\nRunden vorstellen\n\nWahrscheinlich zeitlich nur Runde 1 & 2 möglich\n\n\n\n\nRegeln\n\nRegel 2: Jede Frage ist möglich\, per Zettel im Korb auch anonym \nRegel 3: Antworten\, NUR\, wenn man es selbst ERLEBT habt\, nicht was man denkt\, gehört oder gelesen hat!\nRegel 4: Alles was und von wem in diesem Raum gesprochen wird\, bleibt hier. Ausnahme: Anonymisiert über die Themen reden ist OK.\n\nNur wer damit einverstanden ist\, und sich daran halten wird\, kann weiter teilnehmen.\n\n\nAlle einverstanden?\n\n\nRunden\n\nRunde 1: „Frauen“ fragen „Männer“\nRunde 2: „Männer“ fragen „Frauen“\nRunde 3: Zwei parallele Gruppen: Männer fragen Männer & Frauen fragen Frauen\, …\nRunde 4: ?\n\n\nRückkopplung: Was nehme ich mit\n\nSchnelle Abstimmung: Zweiter Termin Unbedingt / Vielleicht / Nein?\n\n\nGitarre / Abschluss\n\n\nEintritt frei\, aber wie immer freuen wir uns über eine Beitrag für Raummiete\, Webauftritt sowie Fahrtkosten unserer externen Referenten. Je nach Teilnehmerzahl sind es meist zwischen 3 und 9 Euro. \n\nLinks\n\nFacebook\nTübinger Bi- und Pansexuelle\nPolytreff Stuttgart\nTamera\nWarum gibt es eigentlich keine Monogam / Hetero Gruppen\, sondern nur Paar-Beratungen?\nBuchbesprechung: „Ich komme – Was Mann beim Sex fühlt. Eine Grenzüberschreitung“\nGlossar\n\nDeutsch\nEnglisch
URL:http://integraler-salon-tuebingen.de/event/salon-januar-februar
LOCATION:Deutsch-Amerikanisches Institut (d.a.i.)\, Karlstr. 3\, Tübingen\, 72072\, Deutschland
CATEGORIES:Salon,Team,Tübingen
ATTACH;FMTTYPE=image/jpeg:http://integraler-salon-tuebingen.de/wp-content/uploads/2017/11/Polyamorie.jpeg
ORGANIZER;CN="Integraler Salon T%C3%BCbingen":MAILTO:team@integraler-salon-tuebingen.de
END:VEVENT
END:VCALENDAR