BEGIN:VCALENDAR
VERSION:2.0
PRODID:-//Integraler Salon Tübingen - ECPv6.15.20//NONSGML v1.0//EN
CALSCALE:GREGORIAN
METHOD:PUBLISH
X-ORIGINAL-URL:http://integraler-salon-tuebingen.de
X-WR-CALDESC:Veranstaltungen für Integraler Salon Tübingen
REFRESH-INTERVAL;VALUE=DURATION:PT1H
X-Robots-Tag:noindex
X-PUBLISHED-TTL:PT1H
BEGIN:VTIMEZONE
TZID:Europe/Berlin
BEGIN:DAYLIGHT
TZOFFSETFROM:+0100
TZOFFSETTO:+0200
TZNAME:CEST
DTSTART:20160327T010000
END:DAYLIGHT
BEGIN:STANDARD
TZOFFSETFROM:+0200
TZOFFSETTO:+0100
TZNAME:CET
DTSTART:20161030T010000
END:STANDARD
BEGIN:DAYLIGHT
TZOFFSETFROM:+0100
TZOFFSETTO:+0200
TZNAME:CEST
DTSTART:20170326T010000
END:DAYLIGHT
BEGIN:STANDARD
TZOFFSETFROM:+0200
TZOFFSETTO:+0100
TZNAME:CET
DTSTART:20171029T010000
END:STANDARD
BEGIN:DAYLIGHT
TZOFFSETFROM:+0100
TZOFFSETTO:+0200
TZNAME:CEST
DTSTART:20180325T010000
END:DAYLIGHT
BEGIN:STANDARD
TZOFFSETFROM:+0200
TZOFFSETTO:+0100
TZNAME:CET
DTSTART:20181028T010000
END:STANDARD
END:VTIMEZONE
BEGIN:VEVENT
DTSTART;TZID=Europe/Berlin:20171123T200000
DTEND;TZID=Europe/Berlin:20171123T220000
DTSTAMP:20260423T163746
CREATED:20170712T185908Z
LAST-MODIFIED:20191102T185243Z
UID:893-1511467200-1511474400@integraler-salon-tuebingen.de
SUMMARY:Salon November: Enneagramm in der Anwendung
DESCRIPTION:Enneagramm in der Anwendung \nNach dem großen Erfolg unserer ersten Runde im April\, und dem Bedürfnis der TeilnehmerInnen dieses Thema weiter zu vertiefen\, hier Runde 2: \nNach einer kurzen Einführung ins Enneagramm\, wollen wir es in der Anwendung erleben.\nIn der erzählerischen Tradition nach Helen Palmer ist jeder Mensch\, derjenige\, der am meisten über seinen Typ sagen kann.\n\nInsofern wäre es hilfreich\, wenn die Teilnehmer ihren eigenen Typ kennen oder zumindest vermuten.\n\n\n\n\nWir wollen aus o.g. Schule (es gibt im Enneagramm  durchaus unterschiedliche) die sogenannten Panels abhalten. Das bedeutet eine Gruppe von mindestens 3 Personen des gleichen Typs (das Panel) werden befragt. In diesem Prozess erleben sie ihren Typ je neu und dessen Facetten.\n\n\nDie „Zuschauer“ erkennen und lernen warum dieser Typ so handelt. Man erkennt Verhalten von Verwandten oder Kollegen und kann es anders betrachten und verstehen. Auf beiden Seiten ein hoher Aha-Effekt und deshalb sehr kraftvoll.\n\n\n\n\n \n\n\nJetzt braucht es nur noch genügend „typische“ Teilnehmer. Wer seinen Typ vorher noch finden möchte\, bitte melden.\n\n\nEmpfohlene Links zur Typfindung (keine Tests) \nBasisthemen der 9 Typen \n\nhttp://www.enneagramm.de/enneagramm.php?aktion=typen\noder ein Typisierungsinterview von ca 1\, 5 Stunden z.B. bei Monika.Kienle@luds.org\nGrundsätzlich sind aber alle eingeladen\, auch die\, die das Enneagramm nur kennen lernen wollen oder ihren Typ immer noch suchen.\n\nEintritt frei\, Spende erbeten
URL:http://integraler-salon-tuebingen.de/event/salon-november-enneagramm-in-der-anwendung
LOCATION:Deutsch-Amerikanisches Institut (d.a.i.)\, Karlstr. 3\, Tübingen\, 72072\, Deutschland
CATEGORIES:Salon,Team,Tübingen
ATTACH;FMTTYPE=image/jpeg:http://integraler-salon-tuebingen.de/wp-content/uploads/2016/03/Monika-Kienle-Juni-2010.jpg
ORGANIZER;CN="Integraler Salon T%C3%BCbingen":MAILTO:team@integraler-salon-tuebingen.de
END:VEVENT
END:VCALENDAR