BEGIN:VCALENDAR
VERSION:2.0
PRODID:-//Integraler Salon Tübingen - ECPv6.15.20//NONSGML v1.0//EN
CALSCALE:GREGORIAN
METHOD:PUBLISH
X-WR-CALNAME:Integraler Salon Tübingen
X-ORIGINAL-URL:http://integraler-salon-tuebingen.de
X-WR-CALDESC:Veranstaltungen für Integraler Salon Tübingen
REFRESH-INTERVAL;VALUE=DURATION:PT1H
X-Robots-Tag:noindex
X-PUBLISHED-TTL:PT1H
BEGIN:VTIMEZONE
TZID:Europe/Berlin
BEGIN:DAYLIGHT
TZOFFSETFROM:+0100
TZOFFSETTO:+0200
TZNAME:CEST
DTSTART:20190331T010000
END:DAYLIGHT
BEGIN:STANDARD
TZOFFSETFROM:+0200
TZOFFSETTO:+0100
TZNAME:CET
DTSTART:20191027T010000
END:STANDARD
BEGIN:DAYLIGHT
TZOFFSETFROM:+0100
TZOFFSETTO:+0200
TZNAME:CEST
DTSTART:20200329T010000
END:DAYLIGHT
BEGIN:STANDARD
TZOFFSETFROM:+0200
TZOFFSETTO:+0100
TZNAME:CET
DTSTART:20201025T010000
END:STANDARD
BEGIN:DAYLIGHT
TZOFFSETFROM:+0100
TZOFFSETTO:+0200
TZNAME:CEST
DTSTART:20210328T010000
END:DAYLIGHT
BEGIN:STANDARD
TZOFFSETFROM:+0200
TZOFFSETTO:+0100
TZNAME:CET
DTSTART:20211031T010000
END:STANDARD
END:VTIMEZONE
BEGIN:VEVENT
DTSTART;TZID=Europe/Berlin:20200125T100000
DTEND;TZID=Europe/Berlin:20200126T170000
DTSTAMP:20260423T154959
CREATED:20191202T081634Z
LAST-MODIFIED:20200120T061257Z
UID:1542-1579946400-1580058000@integraler-salon-tuebingen.de
SUMMARY:Fällt aus: Atem-Wochenende mit Hubert Hagl
DESCRIPTION:Fällt leider aus. Zu wenig Anmeldung\nLiebe Interessierte am Integralen Salon! \nDa unser Salon-Abend im November mit der Atem-Meditation solch große Resonanz hatte\, wird Hubert Hagl vom 24.-26. Januar 2020 noch einmal zu einem vertiefenden Atem-Wochenende nach Tübingen kommen. Er wird diesen Workshop im Forum an der Blaulach halten. \nHubert Hagl \, der Leiter des Integralen Salons in Deggendorf\, wird uns zunächst am Freitagabend um 20 Uhr in einem Vortrag theoretisch mit seiner Form der Atem-Meditation vertraut machen und diese Praxis dann am Samstag- und Sonntagmorgen zweimal mit uns durchführen\, sie jeweils am Nachmittag nachbetrachten und auf unsere Fragen eingehen.\nEs handelt sich bei dieser Praxis um eine tiefe Atem-Meditation\, in der er die Technik der Hyperventilation sanft weiterentwickelt hat. So erleben wir eine außergewöhnliche Meditationspraxis\, in der ein bisher oft nur kognitives Wissen zu der lebendigen Erfahrung werden kann\, dass wir letztlich Teil des All-Einen (religiös Gott genannt) sind. Hubert Hagl hat langjährige Erfahrung mit Atemarbeit in unterschiedlichen Gruppen und ist Gründer der Integralen Mystik-Akademie. \nWorkshop:  Einheitserfahrung durch Atem-Meditation \nÜber Entspannung im ganzen Körper und tiefe Versunkenheit bekommen wir Zugang zu veränderten Bewusstseinszuständen. Raum- und Zeitlosigkeit stellt sich ein und eröffnet uns ein Meer von Möglichkeiten. Mit dem Kosmos verbunden\, fühlen wir uns unserem Alltag neu gewachsen. \nUnterstützt durch Musik\, nutzen wir liegend eine naturgegebene Atemreaktion\, um mit unserem menschlichen System in Homöostase zu kommen\, in ein neues physisches\, seelisches und geistiges Gleichgewicht. Diese intensive Atempraxis unterstützt unsere Fähigkeit für umfassende Resilienz und wir haben die Chance\, den \nMystiker bzw. die Mystikerin in uns zu entdecken. \nTransrationale Einheitserfahrungen eröffnen eine Grundlage für ein lebendiges und nachhaltiges Interesse an den integralen Theorien. Denn diese erweisen sich dann erst am dienlichsten\, um die außergewöhnlichen Erlebnisse und Entwicklungen im eigenen Bewusstsein rational zu verstehen und einordnen zu können. So wird immer wieder erfahrbar\, dass die Entwicklungslinien der integralen und spirituellen Intelligenz und der Mystik ein kräftiger Antriebsmotor für die persönliche Entwicklung und für das Förderband der Evolution sind. \n\nOrt: Forum an der Blaulach\, Henriettenweg 2\, 72072 Tübingen (im Französischen Viertel).\nAnfahrt: Mit dem Bus: von Tübingen Hauptbahnhof mit den Buslinien 4 und 7 Richtung Wennfelder Garten bis Aixer Straße; mit der Buslinie 13 Richtung Frz. Viertel bis Wankheimer Täle.\n\n\nZeiten\n\nFreitag\, 24.01.2020\, 20 Uhr – 21:30 Uhr\nSamstag\, 25.01.20\, 10 – 17 Uhr (einschl. Mittagspause von 13:30 – 15 Uhr\nSonntag\, 26.01.20\, 10 – 17 Uhr (einschl. Mittagspause von 13:30 – 15 Uhr)\n\n\n\n\n   Wichtig\n\nDie Teilnahme am Vortrag ist keine Voraussetzung für die Atem-Erfahrung.\nEs ist möglich\, den Workshop auch nur an einem Tag zu besuchen.\n\n\n\n\nKosten Die Bezahlung erfolgt auf Spendenbasis. Richtwerte dafür sind.\n\nVortrag: 5\,- € / 3\,- € ermäßigt (für Studenten\, Arbeitslose und Rentner\nAtempraxis: ein Tag: 80\,- € / erm. 50\,- €;  zwei Tage: 160\,- € / erm. 100\,- € (inkl. Vortrag!)\n\n\n\n\nMitzubringen\n\nIm Forum an der Blaulach gibt es Yogamatten und einige Decken. Bringt bitte trotzdem\, wenn möglich\, eine eigene Unterlage\, Decke\, Kissen und warme Socken mit\, damit ihr wirklich warm und bequem liegt.
URL:http://integraler-salon-tuebingen.de/event/atem-wochenende
LOCATION:Forum an der Blaulach\, Henriettenweg 2\, Tübingen\, Baden-Württemberg\, 72072\, Deutschland
CATEGORIES:Salon,Tübingen,Workshop
ATTACH;FMTTYPE=image/jpeg:http://integraler-salon-tuebingen.de/wp-content/uploads/2019/09/Hubert-2019.jpeg
ORGANIZER;CN="Integraler Salon T%C3%BCbingen":MAILTO:team@integraler-salon-tuebingen.de
END:VEVENT
END:VCALENDAR