BEGIN:VCALENDAR
VERSION:2.0
PRODID:-//Integraler Salon Tübingen - ECPv6.15.20//NONSGML v1.0//EN
CALSCALE:GREGORIAN
METHOD:PUBLISH
X-WR-CALNAME:Integraler Salon Tübingen
X-ORIGINAL-URL:http://integraler-salon-tuebingen.de
X-WR-CALDESC:Veranstaltungen für Integraler Salon Tübingen
REFRESH-INTERVAL;VALUE=DURATION:PT1H
X-Robots-Tag:noindex
X-PUBLISHED-TTL:PT1H
BEGIN:VTIMEZONE
TZID:Europe/Berlin
BEGIN:DAYLIGHT
TZOFFSETFROM:+0100
TZOFFSETTO:+0200
TZNAME:CEST
DTSTART:20190331T010000
END:DAYLIGHT
BEGIN:STANDARD
TZOFFSETFROM:+0200
TZOFFSETTO:+0100
TZNAME:CET
DTSTART:20191027T010000
END:STANDARD
BEGIN:DAYLIGHT
TZOFFSETFROM:+0100
TZOFFSETTO:+0200
TZNAME:CEST
DTSTART:20200329T010000
END:DAYLIGHT
BEGIN:STANDARD
TZOFFSETFROM:+0200
TZOFFSETTO:+0100
TZNAME:CET
DTSTART:20201025T010000
END:STANDARD
BEGIN:DAYLIGHT
TZOFFSETFROM:+0100
TZOFFSETTO:+0200
TZNAME:CEST
DTSTART:20210328T010000
END:DAYLIGHT
BEGIN:STANDARD
TZOFFSETFROM:+0200
TZOFFSETTO:+0100
TZNAME:CET
DTSTART:20211031T010000
END:STANDARD
END:VTIMEZONE
BEGIN:VEVENT
DTSTART;TZID=Europe/Berlin:20200116T200000
DTEND;TZID=Europe/Berlin:20200116T223000
DTSTAMP:20260423T141855
CREATED:20191102T184510Z
LAST-MODIFIED:20200107T115625Z
UID:1507-1579204800-1579213800@integraler-salon-tuebingen.de
SUMMARY:2020-01 Wie geht Beziehung?
DESCRIPTION:Im neuen Jahr wollen wir mit Margarete Hardes und Philipp Althaus die Erforschung des Kreises als Urform des menschlichen Zusammenlebens fortsetzen und weiter untersuchen\, welche Kompetenzen wir für ein solches nicht-hierarchisches\, lebendig-friedvolles Miteinander benötigen. Diesmal wollen wir das Thema Beziehung genauer unter die Lupe nehmen. Obwohl Beziehungen den meisten von uns sehr wichtig sind\, fordern gerade sie uns oft besonders heraus. \nThema:  Wie geht Beziehung? \n– Im d.a.i.\, Karlstraße 3\, 72072 Tübingen. Eintritt frei\, Spenden erbeten. \n– Ankommen ab 19:45 Uhr\, Beginn: 20:00 Uhr\, Ende gegen 22 Uhr \n \nUnser Fokus liegt weiterhin auf dem Kreis als dem Grundmodell einer solidarischen Gemeinschaft\, in der alle gemeinsam Verantwortung für das Leben als Ganzes übernehmen. Wir fragen uns: Wie kann gleichberechtigte Kommunikation im Kreis gelingen? Welche neuen Qualitäten und Fähigkeiten brauchen wir dafür? \nUnsere einzelnen Beziehungen zu anderen Menschen sind sicher das beste Übungsfeld dafür. Denn hier müssen wir ständig unsere eigenen Bedürfnisse mit denen der anderen abgleichen\, um zu praktikablen Lösungen zu kommen\, mit denen alle zufrieden sind. Das ist nicht mehr so einfach wie früher\, als noch klar war\, wer z. B. in der Familie das Sagen hatte und wer sich fügen musste. Wir haben heute die Freiheit\, alles selbst auszuhandeln\, sind davon aber auch häufig überfordert. Wir sehnen uns nach einem Miteinander auf Augenhöhe\, haben aber kaum Beispiele dafür\, wie das real funktionieren kann\, und fallen immer wieder in alte Rollenmuster oder Machtkämpfe zurück. Wir sind stolz auf unsere Unabhängigkeit\, merken aber doch\, dass wir die anderen in vielerlei Hinsicht brauchen. Trotzdem scheuen wir davor zurück\, uns abhängig zu machen… Wie können wir unter diesen Umständen zu erfüllenden und nährenden Beziehungen auf Augenhöhe kommen\, in denen wir uns wirklich gesehen fühlen? Dieser Frage wollen wir gemeinsam nachgehen. \nDer Eintritt ist wie immer frei\, aber wir freuen uns über eure Wertschätzung und einen Beitrag für Raummiete\, Webauftritt sowie Fahrtkosten unserer externen Referenten. \nWir freuen uns auf euch und grüßen ganz herzlich \nMargarete\, Monika\, Nikolai\, Peter und Philipp \nWeitere Details: http://integraler-salon-tuebingen.de/event/salonabend \nWir möchten hier noch einmal an den Atem-Workshop mit Hubert Hagl erinnern\, der am Samstag/ Sonntag 25./26. Januar im Forum an der Blaulach stattfindet und mit einem Vortragsabend am Vorabend (Freitag\, 24.1.) eingeleitet wird. Vgl. dazu unsere letzte Rundmail #33 bzw. die Homepage des Integralen Salons Tübingen. \nDurch ein Versehen fehlten darin aber leider die Anmeldungsmodalitäten\, die wir hiermit nachtragen: \nAnmeldung: Bitte meldet euch für den Samstag und/oder Sonntag des Workshops bis zum 17. Januar 2020 verbindlich an unter  mhardes@hotmail.com\nFür die Teilnahme am Vortragsabend benötigt ihr keine Anmeldung. \nKontakt:\n\nIhr erreicht uns bei Fragen oder Problemen zum Integralen Salon Tübingen per Mail an team@integraler-salon-tuebingen.de\nTechnische Fragen zur Rundmail oder zur Webseite bitte an unseren Admin: admin@integraler-salon-tuebingen.de\nTermine auch im Internet unter http://integraler-salon-tuebingen.de/events und auch bei Facebook: https://www.facebook.com/IntegralerSalonTuebingen\nWebseite des Salons http://integraler-salon-tuebingen.de\n\n  \n 
URL:http://integraler-salon-tuebingen.de/event/2020-01-salon
LOCATION:Deutsch-Amerikanisches Institut (d.a.i.)\, Karlstr. 3\, Tübingen\, 72072\, Deutschland
CATEGORIES:Salon,Tübingen
ATTACH;FMTTYPE=image/jpeg:http://integraler-salon-tuebingen.de/wp-content/uploads/2016/07/Mandel_zoom_00_mandelbrot_set1.jpg
ORGANIZER;CN="Integraler Salon T%C3%BCbingen":MAILTO:team@integraler-salon-tuebingen.de
END:VEVENT
END:VCALENDAR