BEGIN:VCALENDAR
VERSION:2.0
PRODID:-//Integraler Salon Tübingen - ECPv6.15.20//NONSGML v1.0//EN
CALSCALE:GREGORIAN
METHOD:PUBLISH
X-WR-CALNAME:Integraler Salon Tübingen
X-ORIGINAL-URL:http://integraler-salon-tuebingen.de
X-WR-CALDESC:Veranstaltungen für Integraler Salon Tübingen
REFRESH-INTERVAL;VALUE=DURATION:PT1H
X-Robots-Tag:noindex
X-PUBLISHED-TTL:PT1H
BEGIN:VTIMEZONE
TZID:Europe/Berlin
BEGIN:DAYLIGHT
TZOFFSETFROM:+0100
TZOFFSETTO:+0200
TZNAME:CEST
DTSTART:20180325T010000
END:DAYLIGHT
BEGIN:STANDARD
TZOFFSETFROM:+0200
TZOFFSETTO:+0100
TZNAME:CET
DTSTART:20181028T010000
END:STANDARD
BEGIN:DAYLIGHT
TZOFFSETFROM:+0100
TZOFFSETTO:+0200
TZNAME:CEST
DTSTART:20190331T010000
END:DAYLIGHT
BEGIN:STANDARD
TZOFFSETFROM:+0200
TZOFFSETTO:+0100
TZNAME:CET
DTSTART:20191027T010000
END:STANDARD
BEGIN:DAYLIGHT
TZOFFSETFROM:+0100
TZOFFSETTO:+0200
TZNAME:CEST
DTSTART:20200329T010000
END:DAYLIGHT
BEGIN:STANDARD
TZOFFSETFROM:+0200
TZOFFSETTO:+0100
TZNAME:CET
DTSTART:20201025T010000
END:STANDARD
END:VTIMEZONE
BEGIN:VEVENT
DTSTART;TZID=Europe/Berlin:20191115T180000
DTEND;TZID=Europe/Berlin:20191117T180000
DTSTAMP:20260425T163857
CREATED:20190903T134728Z
LAST-MODIFIED:20191102T185354Z
UID:1441-1573840800-1574013600@integraler-salon-tuebingen.de
SUMMARY:Herbsttreffen der Salonleiter im Integralen Forum e.V.
DESCRIPTION:Einladung-Herbsttreffen-2019-Tübingen
URL:http://integraler-salon-tuebingen.de/event/2019-herbst-treffen
LOCATION:Jugenherberge Tübingen\, Hermann-Kurz-Str. 4\,\, Tübingen\, 72074\, Deutschland
CATEGORIES:Integrales Forum,Salon,Team,Tübingen
ORGANIZER;CN="Integrales Forum e.V.":MAILTO:info@integralesforum.org
END:VEVENT
BEGIN:VEVENT
DTSTART;TZID=Europe/Berlin:20191115T210000
DTEND;TZID=Europe/Berlin:20191115T230000
DTSTAMP:20260425T163857
CREATED:20191024T143204Z
LAST-MODIFIED:20191107T200246Z
UID:1500-1573851600-1573858800@integraler-salon-tuebingen.de
SUMMARY:Astronomisches Konzert im Hirsch
DESCRIPTION:Freitag 15. November 2019\, 21 bis etwa 23 Uhr\nAstronomisches Konzert in der Begegnungsstätte Hirsch in Tübingen. \n\nHutkonzert\, freiwillige Spende zwischen 5 und 15 Euro erwünscht\nAnreise und weitere Information hier: http://astronomisches-konzert.de/event/2019-hirsch/\n\n\nVom Urknall zurück zur Erde\nEine geführte Reise durch Raum & Zeit. Vom ersten sichtbaren Licht des Universums\, über weit entfernte Galaxien bis nach Hause zu unserem blauen Heimatplaneten. Wir streifen dabei auch kurz Tschuri\, das Forschungsziel der Rosetta Mission. (67P/Tschurjumow-Gerassimenko). \nEs ist ein Experiment. Und es ist der Versuch der Symbiose meiner Leidenschaften… \nWenn Prosa und wissenschaftlicher Hintergrund Raum & Zeit lassen für kontemplatives Genießen von akustischer Musik und ästhetischen Bildern des Universums\, dann gelingt es vielleicht auch\, die unglaubliche Weite des Alls einmal anders zu „begreifen“. Im Anschluss an das Konzert besteht die Möglichkeit die noch offenen Fragen anzusprechen. \nEine audiovisuelle Live Performance mit atemberaubend schönen Bildern des Universums\, ferner Galaxien\, naher Sternentstehungsgebiete und schließlich auch des wunderbaren blauen Planet Erde auf einer großen Leinwand. Mit Improvisationen von Irena Meister (Klavier) und Nikolai von Krusenstiern (Gitarre). \nMeditativ und Kontemplativ. \nNikolai von Krusenstiern\, Astrophysiker & Mitarbeiter beim europäischen Raumfahrtkontrollzentrum in Darmstadt (ESOC)\, führt die wenigen\, ausgesucht schönen Bilder kurz ein\, und spielt Gitarre und Klavier. \nLinks\n\n\nVeranstaltet zusammen mit den  Integralen Salon Tübingen aus Anlass des  Herbsttreffen des Integralen Forums\n\nPlakat als PDF oder 4 A6 Sticker
URL:http://integraler-salon-tuebingen.de/event/2019-hirsch
LOCATION:Hirsch Begegnungsstätte\, Hirschgasse 9\, Tübingen\, Baden-Württemberg\, 72070\, Deutschland
CATEGORIES:Konzert,Salon,Team,Tübingen
ATTACH;FMTTYPE=image/jpeg:http://integraler-salon-tuebingen.de/wp-content/uploads/2016/02/Nikolai-von-Krusenstiern-SW-small-web.jpg
ORGANIZER;CN="Integraler Salon T%C3%BCbingen":MAILTO:team@integraler-salon-tuebingen.de
END:VEVENT
END:VCALENDAR