BEGIN:VCALENDAR
VERSION:2.0
PRODID:-//Integraler Salon Tübingen - ECPv6.15.20//NONSGML v1.0//EN
CALSCALE:GREGORIAN
METHOD:PUBLISH
X-ORIGINAL-URL:http://integraler-salon-tuebingen.de
X-WR-CALDESC:Veranstaltungen für Integraler Salon Tübingen
REFRESH-INTERVAL;VALUE=DURATION:PT1H
X-Robots-Tag:noindex
X-PUBLISHED-TTL:PT1H
BEGIN:VTIMEZONE
TZID:Europe/Berlin
BEGIN:DAYLIGHT
TZOFFSETFROM:+0100
TZOFFSETTO:+0200
TZNAME:CEST
DTSTART:20180325T010000
END:DAYLIGHT
BEGIN:STANDARD
TZOFFSETFROM:+0200
TZOFFSETTO:+0100
TZNAME:CET
DTSTART:20181028T010000
END:STANDARD
BEGIN:DAYLIGHT
TZOFFSETFROM:+0100
TZOFFSETTO:+0200
TZNAME:CEST
DTSTART:20190331T010000
END:DAYLIGHT
BEGIN:STANDARD
TZOFFSETFROM:+0200
TZOFFSETTO:+0100
TZNAME:CET
DTSTART:20191027T010000
END:STANDARD
BEGIN:DAYLIGHT
TZOFFSETFROM:+0100
TZOFFSETTO:+0200
TZNAME:CEST
DTSTART:20200329T010000
END:DAYLIGHT
BEGIN:STANDARD
TZOFFSETFROM:+0200
TZOFFSETTO:+0100
TZNAME:CET
DTSTART:20201025T010000
END:STANDARD
END:VTIMEZONE
BEGIN:VEVENT
DTSTART;TZID=Europe/Berlin:20191114T194500
DTEND;TZID=Europe/Berlin:20191114T223000
DTSTAMP:20260425T163446
CREATED:20190527T083537Z
LAST-MODIFIED:20191107T141225Z
UID:1383-1573760700-1573770600@integraler-salon-tuebingen.de
SUMMARY:Einheitserfahrung durch Atem-Meditation
DESCRIPTION:Wir werden Hubert Hagl\, den Leiter des Integralen Salons in Deggendorf zu Gast haben\, der uns durch eine tiefe Atem-Meditation führt\, in der er die Technik der Hyperventilation sanft weiterentwickelt hat. So erleben wir eine außergewöhnliche Meditationspraxis\, in der ein bisher oft nur kognitives Wissen zu der lebendigen Erfahrung werden kann: Wir sind letztlich Teil des All-Einen (religiös Gott genannt). Hubert Hagl hat langjährige Erfahrung mit Atemarbeit in unterschiedlichen Gruppen und gründete die Integrale Mystik-Akademie. \nEinheitserfahrung durch Atem-Meditation\nDa diese Atem-Session mit allen Vorbereitungen zweieinhalb Stunden in Anspruch nimmt\, fangen wir diesmal pünktlich um 20.00 Uhr an und ab 20.15 Uhr ist kein Einlass mehr. Ende gegen 22:30.\nÜber Entspannung im ganzen Körper und tiefe Versunkenheit bekommen\nwir Zugang zu veränderten Bewusstseinszuständen. Raum- und Zeitlosigkeit stellt sich ein und eröffnet uns ein Meer von Möglichkeiten. Mit dem Kosmos verbunden fühlen wir uns unserem Alltag neu gewachsen. \nUnterstützt durch Musik\, nutzen wir liegend eine naturgegebene Atem-Reaktion\, um mit unserem menschlichen System in Homöostase zu kommen\, in ein neues physisches\, seelisches und geistiges Gleichgewicht. Diese intensive Atempraxis unterstützt unsere Fähigkeit für umfassende Resilienz und wir haben die Chance den Mystiker in uns zu entdecken. \nHubert Andreas Hagl ist Leiter des Deggendorfer Salons und hat langjährige Erfahrung mit Atemarbeit in unterschiedlichen Gruppen und hat die Integrale Mystik-Akademie gegründet. \nBringt bitte eine Unterlage\, Kissen\, Decke und warme Socken mit\, damit ihr bequem auf dem Boden liegen könnt. \nDer Eintritt ist wie immer frei\, aber wir freuen uns über einen Beitrag für Raummiete\, Webauftritt sowie Fahrtkosten unserer externen Referenten. Je nach Teilnehmerzahl sind es meist zwischen 3 und 9 Euro.\n\n\nFür die Einladung an die Integralen :​\nTransrationale Einheitserfahrungen eröffnen eine Grundlage für ein lebendiges und nachhaltiges Interesse an den Integralen Theorien. Weil dann erst die integralen Theorien sich am dienlichsten erweisen um die außergewöhnlichen Erlebnisse und Entwicklungen im eigenen Bewusstsein rational zu verstehen und einordnen zu können. So wird immer wieder erfahrbar\, dass die Entwicklungslinie der integralen\, spirituellen Intelligenz und Mystik ein kräftiger Antriebsmotor für das Förderband der Evolution sein kann.​
URL:http://integraler-salon-tuebingen.de/event/2019-11
LOCATION:Deutsch-Amerikanisches Institut (d.a.i.)\, Karlstr. 3\, Tübingen\, 72072\, Deutschland
CATEGORIES:Salon,Tübingen
ATTACH;FMTTYPE=image/jpeg:http://integraler-salon-tuebingen.de/wp-content/uploads/2019/09/Hubert-2019.jpeg
ORGANIZER;CN="Integraler Salon T%C3%BCbingen":MAILTO:team@integraler-salon-tuebingen.de
END:VEVENT
END:VCALENDAR