BEGIN:VCALENDAR
VERSION:2.0
PRODID:-//Integraler Salon Tübingen - ECPv6.15.20//NONSGML v1.0//EN
CALSCALE:GREGORIAN
METHOD:PUBLISH
X-ORIGINAL-URL:http://integraler-salon-tuebingen.de
X-WR-CALDESC:Veranstaltungen für Integraler Salon Tübingen
REFRESH-INTERVAL;VALUE=DURATION:PT1H
X-Robots-Tag:noindex
X-PUBLISHED-TTL:PT1H
BEGIN:VTIMEZONE
TZID:Europe/Berlin
BEGIN:DAYLIGHT
TZOFFSETFROM:+0100
TZOFFSETTO:+0200
TZNAME:CEST
DTSTART:20180325T010000
END:DAYLIGHT
BEGIN:STANDARD
TZOFFSETFROM:+0200
TZOFFSETTO:+0100
TZNAME:CET
DTSTART:20181028T010000
END:STANDARD
BEGIN:DAYLIGHT
TZOFFSETFROM:+0100
TZOFFSETTO:+0200
TZNAME:CEST
DTSTART:20190331T010000
END:DAYLIGHT
BEGIN:STANDARD
TZOFFSETFROM:+0200
TZOFFSETTO:+0100
TZNAME:CET
DTSTART:20191027T010000
END:STANDARD
BEGIN:DAYLIGHT
TZOFFSETFROM:+0100
TZOFFSETTO:+0200
TZNAME:CEST
DTSTART:20200329T010000
END:DAYLIGHT
BEGIN:STANDARD
TZOFFSETFROM:+0200
TZOFFSETTO:+0100
TZNAME:CET
DTSTART:20201025T010000
END:STANDARD
END:VTIMEZONE
BEGIN:VEVENT
DTSTART;TZID=Europe/Berlin:20190214T200000
DTEND;TZID=Europe/Berlin:20190214T230000
DTSTAMP:20260423T164509
CREATED:20181122T093055Z
LAST-MODIFIED:20191102T185431Z
UID:1256-1550174400-1550185200@integraler-salon-tuebingen.de
SUMMARY:Salon Abend: Das anthropisches Prinzip
DESCRIPTION:Das anthropische Prinzip\noder die Feinabstimmung der Naturkonstanten und mehr…\nAnschließend eine Kurz-Vorstellung des Seminars: „The Higher Feminine: Surrender to the Highest“\, siehe unten! \n\nTübingen\, Baden-Württemberg\, Deutschland\, Europa\, Erde\, Sonnensystem\, Milchstraße\, Universum\, Multiversen\, …\nWarum wir hier und heute sind\, und uns deshalb darüber Gedanken machen können.\nUnd über das Privileg dies zu sein.\n\nDrei Fishbowl-Runden mit kurzen Impulsen: \n\nEuropa & Neuzeit\nMilchstraße & Zeitalter\nMultiversen & Naturkonstanten\n\n \nWer will kann vorher lesen: \n\nFishbowl:\n\nhttps://de.wikipedia.org/wiki/Fishbowl_(Diskussionsmethode)\n\n\n\nIn dieser Form der Methode dürfen Teilnehmer aus dem Außenkreis ein Mitglied des Innenkreises „abklopfen“. Dieses darf dann noch seinen Satz fertig sprechen und macht dann seinen Platz für den Teilnehmer aus dem Außenkreis frei. Diese Form erfordert eine hohe Achtsamkeit und soziale Kompetenz der Teilnehmer\, weil alle gleichermaßen den Ablauf steuern müssen. \n\nDas anthropisches Prinzip\n\nhttps://de.wikipedia.org/wiki/Anthropisches_Prinzip\nhttps://de.wikipedia.org/wiki/Emergenz\n\n\nMultiversen & Naturkonstanten\n\nhttps://medium.com/starts-with-a-bang/how-many-fundamental-constants-does-it-take-to-explain-the-universe-e00abd83d4c9\nhttps://de.wikipedia.org/wiki/Feinabstimmung_der_Naturkonstanten\nhttps://de.wikipedia.org/wiki/Physikalische_Konstante\nhttps://www.forbes.com/sites/ethansiegel/2015/08/22/it-takes-26-fundamental-constants-to-give-us-our-universe-but-they-still-dont-give-everything/#9d590c44b868\nhttps://en.wikipedia.org/wiki/Dimensionless_physical_constant\n\n\nMilchstraße & Zeitalter\n\nhttps://www.obspm.fr/spip.php?page=imprimer&id_article=2079&lang=fr\nhttps://phys.org/news/2016-06-alien-life-exoplanets-dies-young.html\n\n\nEuropa & Neuzeit\n\nhttps://www.eurofound.europa.eu/surveys/european-quality-of-life-surveys/european-quality-of-life-survey-2016\nhttps://www.eurofound.europa.eu/publications/blog/quality-of-life-in-germany-is-more-than-just-making-ends-meet\nhttps://www.youtube.com/watch?v=wtV5ev6813I\n\n\n\nVon und mit dem Astrophysiker Nikolai von Krusenstiern. \n\nIm Anschluss eine kurze Vorstellung von Fabienne Kuhn aus Bern\, einer Arbeit die uns am Herzen liegt: \n\n\n\nThe Higher Feminine: Surrender to the Highest\n\n\n\n\nDie Rolle der Frau hat sich in den letzten Jahrzehnten stark verändert. Abhängigkeit und Zurückhaltung wurden von Selbständigkeit und Emanzipation abgelöst. Frauen in Mitteleuropa sind heutzutage größtenteils unabhängig\, sorgen für sich selbst\, können die Rechnung im Restaurant selbst zahlen\, haben One Nights Stands und machen die Tür vom Beifahrersitz selbst auf. Trotzdem gibt es da etwas\, dass übrig bleibt und so gar nicht in unser unabhängiges Selbstbild passt: Sehnsucht. \nDieses Gefühl\, dass irgendwie doch was fehlt\, dass wir gar nicht immer stark sein wollen und uns trotz allem nach Liebe sehnen. \nSehnsucht ist ein guter Wegweiser dafür\, dass wir noch nicht unser volles Potential leben. Sehnsucht ist der Wunsch nach mehr\, mehr Liebe\, mehr Hingabe\, mehr Leben. \nDieser Workshop richtet sich an Frauen\, die mehr wollen. Mithilfe von psychologischen Methoden und Potential Arbeit finden wir heraus\, was uns hindert\, wo wir uns zurückhalten und was die nächsten Schritte in ein vollständigeres Leben sind. \nWann: Sobald wir genügend Anmeldungen haben\, an eine Samstag \nWo: voraussichtlich im d.a.i. Tübingen \nPreis: mind. 30.- Wenn du am Ende des Workshops merkst\, dass es dir mehr Wert ist darfst du gerne mehr geben. \nWeitere Informationen und Anmeldung: fabienne@integrales-leben.org \n\n\n\n\n\n\n\n\n\n\n\n\n\n\n\n\n\n\n\n\nThe higher Feminine\nThe higher Feminine
URL:http://integraler-salon-tuebingen.de/event/2018-02
LOCATION:Deutsch-Amerikanisches Institut (d.a.i.)\, Karlstr. 3\, Tübingen\, 72072\, Deutschland
CATEGORIES:Salon,Team,Tübingen
ATTACH;FMTTYPE=image/png:http://integraler-salon-tuebingen.de/wp-content/uploads/2017/01/cd87556f-21ea-441d-9145-90c4f63b9d3b1.png
ORGANIZER;CN="Integraler Salon T%C3%BCbingen":MAILTO:team@integraler-salon-tuebingen.de
END:VEVENT
END:VCALENDAR