BEGIN:VCALENDAR
VERSION:2.0
PRODID:-//Integraler Salon Tübingen - ECPv6.15.20//NONSGML v1.0//EN
CALSCALE:GREGORIAN
METHOD:PUBLISH
X-WR-CALNAME:Integraler Salon Tübingen
X-ORIGINAL-URL:http://integraler-salon-tuebingen.de
X-WR-CALDESC:Veranstaltungen für Integraler Salon Tübingen
REFRESH-INTERVAL;VALUE=DURATION:PT1H
X-Robots-Tag:noindex
X-PUBLISHED-TTL:PT1H
BEGIN:VTIMEZONE
TZID:Europe/Berlin
BEGIN:DAYLIGHT
TZOFFSETFROM:+0100
TZOFFSETTO:+0200
TZNAME:CEST
DTSTART:20160327T010000
END:DAYLIGHT
BEGIN:STANDARD
TZOFFSETFROM:+0200
TZOFFSETTO:+0100
TZNAME:CET
DTSTART:20161030T010000
END:STANDARD
BEGIN:DAYLIGHT
TZOFFSETFROM:+0100
TZOFFSETTO:+0200
TZNAME:CEST
DTSTART:20170326T010000
END:DAYLIGHT
BEGIN:STANDARD
TZOFFSETFROM:+0200
TZOFFSETTO:+0100
TZNAME:CET
DTSTART:20171029T010000
END:STANDARD
BEGIN:DAYLIGHT
TZOFFSETFROM:+0100
TZOFFSETTO:+0200
TZNAME:CEST
DTSTART:20180325T010000
END:DAYLIGHT
BEGIN:STANDARD
TZOFFSETFROM:+0200
TZOFFSETTO:+0100
TZNAME:CET
DTSTART:20181028T010000
END:STANDARD
END:VTIMEZONE
BEGIN:VEVENT
DTSTART;TZID=Europe/Berlin:20170511T200000
DTEND;TZID=Europe/Berlin:20170511T230000
DTSTAMP:20260425T160842
CREATED:20170303T184654Z
LAST-MODIFIED:20191102T185308Z
UID:746-1494532800-1494543600@integraler-salon-tuebingen.de
SUMMARY:Salon Mai:  Die Welt ist voller Lösungen\, ein Filmabend
DESCRIPTION:Die Tübinger Gruppen Transition Town\, Gemeinwohl-Ökonomie\, Solidarische Landwirtschaft und der Integrale Salon laden gemeinsam ein:\nEin preisgekrönter Dokumentarfilm aus dem Jahr 2015\nder eine geniale Synthese aus Agitprop- und Feel-Good-Movie ist \nDonnerstag\, 11. Mai 2017\, 20 Uhr\, d.a.i. Tübingen\, großer Saal\nEintritt frei\, Unkostenbeitrag / Spende von 4-7 Euro erbeten \nEin Film über die Lösungen\, welche wir brauchen\, um den globalen ökologischen Kollaps aufzuhalten. Er gliedert sich in fünf Kapitel (Landwirtschaft\, Energie\, Wirtschaft\, Demokratie und Bildung). So wird beispielsweise verdeutlicht\, dass eine Trendwende im Energiesektor nicht ohne notwendige finanzielle Investitionen zu verwirklichen ist und daher die Frage in den Fokus genommen werden muss\, wie eine alternative Finanzierungsform aussehen könnte. Da deutlich wird\, wie stark der Einfluss internationaler Konzerne auf politische Prozesse ist\, muss man sich fragen\, wie demokratische Strukturen verstärkt werden können. \nNach dem Film Round-Table: Was machen wir in Tübingen?\nHaben wir Lust und Willen\, Teil der Lösung zu werden? … \nBei Bedarf Workshop zu den Themen am nächsten Salon-Termin am Mittwoch den 21. Juni: Salon Juni: Die Welt ist voller Lösungen\, Workshop \nGemeinwohl Ökonomie \nTransition Town Tübingen \nVeranstalter:\n\nTransition Town Tübingen tt-tuebingen.de\nGemeinwohl Ökonomie Tübingen tuebingen.ecogood.org\nSolidarische Landwirtschaft Tübingen tuebingen.solawi-freundeskreis.de\nIntegraler Salon Tübingen integraler-salon-tuebingen.de\n\nKooperation:\nDAI \n\nWie immer eine Kooperation von\nd.a.i. Tübingen und\nIntegraler Salon Tübingen\n\nPlakat:\nPlakat Tomorrow - Offiziell - d.a.i.
URL:http://integraler-salon-tuebingen.de/event/salon-mai
LOCATION:Deutsch-Amerikanisches Institut (d.a.i.)\, Karlstr. 3\, Tübingen\, 72072\, Deutschland
CATEGORIES:Film,Salon,Team,Tübingen
ATTACH;FMTTYPE=image/jpeg:http://integraler-salon-tuebingen.de/wp-content/uploads/2017/05/Menschen.jpg
ORGANIZER;CN="Integraler Salon T%C3%BCbingen":MAILTO:team@integraler-salon-tuebingen.de
END:VEVENT
END:VCALENDAR