BEGIN:VCALENDAR
VERSION:2.0
PRODID:-//Integraler Salon Tübingen - ECPv6.15.20//NONSGML v1.0//EN
CALSCALE:GREGORIAN
METHOD:PUBLISH
X-WR-CALNAME:Integraler Salon Tübingen
X-ORIGINAL-URL:http://integraler-salon-tuebingen.de
X-WR-CALDESC:Veranstaltungen für Integraler Salon Tübingen
REFRESH-INTERVAL;VALUE=DURATION:PT1H
X-Robots-Tag:noindex
X-PUBLISHED-TTL:PT1H
BEGIN:VTIMEZONE
TZID:Europe/Berlin
BEGIN:DAYLIGHT
TZOFFSETFROM:+0100
TZOFFSETTO:+0200
TZNAME:CEST
DTSTART:20160327T010000
END:DAYLIGHT
BEGIN:STANDARD
TZOFFSETFROM:+0200
TZOFFSETTO:+0100
TZNAME:CET
DTSTART:20161030T010000
END:STANDARD
BEGIN:DAYLIGHT
TZOFFSETFROM:+0100
TZOFFSETTO:+0200
TZNAME:CEST
DTSTART:20170326T010000
END:DAYLIGHT
BEGIN:STANDARD
TZOFFSETFROM:+0200
TZOFFSETTO:+0100
TZNAME:CET
DTSTART:20171029T010000
END:STANDARD
BEGIN:DAYLIGHT
TZOFFSETFROM:+0100
TZOFFSETTO:+0200
TZNAME:CEST
DTSTART:20180325T010000
END:DAYLIGHT
BEGIN:STANDARD
TZOFFSETFROM:+0200
TZOFFSETTO:+0100
TZNAME:CET
DTSTART:20181028T010000
END:STANDARD
END:VTIMEZONE
BEGIN:VEVENT
DTSTART;TZID=Europe/Berlin:20170209T200000
DTEND;TZID=Europe/Berlin:20170209T223000
DTSTAMP:20260423T180604
CREATED:20161021T152740Z
LAST-MODIFIED:20171113T234428Z
UID:625-1486670400-1486679400@integraler-salon-tuebingen.de
SUMMARY:Salon: "integral Malen - integral werden" mit Helga Hecking
DESCRIPTION:Helga Hecking \nDer Mensch ist in einem fortwährenden Werdensprozess. Integral ist kein Status Quo – es ist das tiefe Wahrnehmen der Prozesshaftigkeit des Ich – seiner Wirkfähigkeit im Kontext zum Du – zum Wir und zum Es. Einzelbilder / Partnerbilder / Gruppenbilder und ein Gesellschaftsbild entstehen in mehreren Akten: \n\n\n\nWir malen / gestalten nach (kurzer) Anleitung schweigend.\n\n\n\n\nAbschließend erklärt jede(r) in wenigen Worten sein Werk – seinen Teil am Gesamtwerk.\n\n\n\n\nDabei sollen (im Wissen um die Schatten) die freudig-stärkenden Aspekte im Focus stehen.\n\n\n\n\nJeder nimmt seinen / ihren Teil mit nach Hause\, nachdem ein Foto des Gesamtwerkes entstanden ist.\n\n\n\nHelga Hecking: „Ich freue mich schon auf einen Abend\, der das Integrale nicht nur denkbar – sondern spürbar machen wird.“ \n\n\n\nACHTUNG: Um Anmeldung wird diesmal gebeten. Grund: Mal-Material\nEintritt frei – Um Spenden für Raummiete und Mal-Material wird gebeten.\n\n\nLinks: \n\nMaltherapie Helga Heckling
URL:http://integraler-salon-tuebingen.de/event/salon-2
LOCATION:Deutsch-Amerikanisches Institut (d.a.i.)\, Karlstr. 3\, Tübingen\, 72072\, Deutschland
CATEGORIES:Salon,Tübingen
ATTACH;FMTTYPE=image/jpeg:http://integraler-salon-tuebingen.de/wp-content/uploads/2016/10/Helga-Hecking.jpg
ORGANIZER;CN="Integraler Salon T%C3%BCbingen":MAILTO:team@integraler-salon-tuebingen.de
END:VEVENT
END:VCALENDAR